BEGIN:VCALENDAR
VERSION:2.0
PRODID:-//Colegio San Felipe Neri - ECPv6.15.20//NONSGML v1.0//EN
CALSCALE:GREGORIAN
METHOD:PUBLISH
X-ORIGINAL-URL:https://colegiosanfelipeneri.com
X-WR-CALDESC:Eventos para Colegio San Felipe Neri
REFRESH-INTERVAL;VALUE=DURATION:PT1H
X-Robots-Tag:noindex
X-PUBLISHED-TTL:PT1H
BEGIN:VTIMEZONE
TZID:Europe/Madrid
BEGIN:DAYLIGHT
TZOFFSETFROM:+0100
TZOFFSETTO:+0200
TZNAME:CEST
DTSTART:20250330T010000
END:DAYLIGHT
BEGIN:STANDARD
TZOFFSETFROM:+0200
TZOFFSETTO:+0100
TZNAME:CET
DTSTART:20251026T010000
END:STANDARD
BEGIN:DAYLIGHT
TZOFFSETFROM:+0100
TZOFFSETTO:+0200
TZNAME:CEST
DTSTART:20260329T010000
END:DAYLIGHT
BEGIN:STANDARD
TZOFFSETFROM:+0200
TZOFFSETTO:+0100
TZNAME:CET
DTSTART:20261025T010000
END:STANDARD
BEGIN:DAYLIGHT
TZOFFSETFROM:+0100
TZOFFSETTO:+0200
TZNAME:CEST
DTSTART:20270328T010000
END:DAYLIGHT
BEGIN:STANDARD
TZOFFSETFROM:+0200
TZOFFSETTO:+0100
TZNAME:CET
DTSTART:20271031T010000
END:STANDARD
END:VTIMEZONE
BEGIN:VEVENT
DTSTART;VALUE=DATE:20260608
DTEND;VALUE=DATE:20260609
DTSTAMP:20260420T111008
CREATED:20251222T094533Z
LAST-MODIFIED:20251222T094533Z
UID:9540-1780876800-1780963199@colegiosanfelipeneri.com
SUMMARY:Tercera Evaluación
DESCRIPTION:La semana del 8 al 12 de junio tendremos la tercera evaluación
URL:https://colegiosanfelipeneri.com/evento/tercera-evaluacion/
LOCATION:Colegio San Felipe Neri\, Calle San Felipe 2\, Alcalá de Henares\, Madrid\, 28801\, Spain
CATEGORIES:Exámenes
ATTACH;FMTTYPE=image/png:https://colegiosanfelipeneri.com/wp-content/uploads/2025/12/3a-evaluacion.png
END:VEVENT
BEGIN:VEVENT
DTSTART;VALUE=DATE:20260608
DTEND;VALUE=DATE:20260609
DTSTAMP:20260420T111008
CREATED:20260414T085939Z
LAST-MODIFIED:20260414T085939Z
UID:9828-1780876800-1780963199@colegiosanfelipeneri.com
SUMMARY:Viaje fin de curso
DESCRIPTION:Viaje fin de curso.\nPara los alumnos de sexto primaria\nDias: del 8 a 10 de junio\nEn el Albergue de Alarcón – Cuenca\n\n  \n 
URL:https://colegiosanfelipeneri.com/evento/viaje-fin-de-curso/
LOCATION:Colegio San Felipe Neri\, Calle San Felipe 2\, Alcalá de Henares\, Madrid\, 28801\, Spain
CATEGORIES:Días especiales
ATTACH;FMTTYPE=image/png:https://colegiosanfelipeneri.com/wp-content/uploads/2026/04/fin-de-curso.png
END:VEVENT
BEGIN:VEVENT
DTSTART;TZID=Europe/Madrid:20260609T163000
DTEND;TZID=Europe/Madrid:20260609T183000
DTSTAMP:20260420T111008
CREATED:20251222T110414Z
LAST-MODIFIED:20251222T110543Z
UID:9578-1781022600-1781029800@colegiosanfelipeneri.com
SUMMARY:Claustro tercera evaluación
DESCRIPTION:Claustro de profesores para evaluar la enseñanza de esta evalución\, ver los resultados\, estudiar las notas de cada alumno y tomar decisiones para mejorar el rendimiento académico de cada uno de ellos.
URL:https://colegiosanfelipeneri.com/evento/claustro-tercera-evaluacion/
LOCATION:Colegio San Felipe Neri\, Calle San Felipe 2\, Alcalá de Henares\, Madrid\, 28801\, Spain
CATEGORIES:Reunión de Profesores
ATTACH;FMTTYPE=image/png:https://colegiosanfelipeneri.com/wp-content/uploads/2025/07/Reunion-Profesores.png
END:VEVENT
BEGIN:VEVENT
DTSTART;VALUE=DATE:20260615
DTEND;VALUE=DATE:20260616
DTSTAMP:20260420T111008
CREATED:20251222T102456Z
LAST-MODIFIED:20251222T102714Z
UID:9556-1781481600-1781567999@colegiosanfelipeneri.com
SUMMARY:Recuperación 3ª Evaluación
DESCRIPTION:La semana del 15 al 18 de junio es de recuperación de la tercera evaluación
URL:https://colegiosanfelipeneri.com/evento/recuperacion-3a-evaluacion/
LOCATION:Colegio San Felipe Neri\, Calle San Felipe 2\, Alcalá de Henares\, Madrid\, 28801\, Spain
CATEGORIES:Días especiales
ATTACH;FMTTYPE=image/png:https://colegiosanfelipeneri.com/wp-content/uploads/2025/12/RECUPERACION-3a-Evaluacion.png
END:VEVENT
BEGIN:VEVENT
DTSTART;VALUE=DATE:20260615
DTEND;VALUE=DATE:20260620
DTSTAMP:20260420T111008
CREATED:20251223T101708Z
LAST-MODIFIED:20251223T101708Z
UID:9615-1781481600-1781913599@colegiosanfelipeneri.com
SUMMARY:Cuentos populares 2
DESCRIPTION:En esta ocación vamos a ver el cuento del rey león\, dónde resaltaremos las virtudes de responsabilidad y valentía junto al amor a la familia.
URL:https://colegiosanfelipeneri.com/evento/cuentos-populares-2/
LOCATION:Colegio San Felipe Neri\, Calle San Felipe 2\, Alcalá de Henares\, Madrid\, 28801\, Spain
CATEGORIES:Actividades en el aula
ATTACH;FMTTYPE=image/png:https://colegiosanfelipeneri.com/wp-content/uploads/2025/12/cuentos-populares.png
END:VEVENT
BEGIN:VEVENT
DTSTART;VALUE=DATE:20260616
DTEND;VALUE=DATE:20260617
DTSTAMP:20260420T111008
CREATED:20251223T102554Z
LAST-MODIFIED:20251223T102820Z
UID:9617-1781568000-1781654399@colegiosanfelipeneri.com
SUMMARY:Acto de graduación de infantil
DESCRIPTION:Un hermoso acto académico y festivo en el que los alumnos de 5 años se despiden de infantil para entrar\, el curso que viene en la etapa de primaria.
URL:https://colegiosanfelipeneri.com/evento/acto-de-graduacion-de-infantil/
LOCATION:Colegio San Felipe Neri\, Calle San Felipe 2\, Alcalá de Henares\, Madrid\, 28801\, Spain
CATEGORIES:Días especiales
ATTACH;FMTTYPE=image/png:https://colegiosanfelipeneri.com/wp-content/uploads/2025/12/acto-de-graduacion.png
END:VEVENT
BEGIN:VEVENT
DTSTART;VALUE=DATE:20260618
DTEND;VALUE=DATE:20260619
DTSTAMP:20260420T111008
CREATED:20250604T101531Z
LAST-MODIFIED:20251224T092135Z
UID:8816-1781740800-1781827199@colegiosanfelipeneri.com
SUMMARY:Graduación sexto de primaria
DESCRIPTION:GRADUACIÓN DE SEXTO \nHORARIO:  \n\n\n17:00 Acto académico de graduación en el gimnasio. La graduación la preparan los alumnos los días previos\, ya que son ellos los protagonistas. Es un momento solemne y afectivo que guardan en la memoria toda la vida\, les llena de motivación y orgullo. Ese día les gusta a los alumnos y a los profesores estar todos juntos. \n\n\nNo tiene coste alguno \nENTRADAS: 3 entradas por alumno. \n\n\n18:00 El AMPA organiza con sus socios un cóctel. Este acto es posterior al acto académico\, es una fiesta gratuíta para los miembros del AMPA. Los que no pertenecen al AMPA no pueden participar en ella. \n\n\nLos alumnos vendrán con el uniforme del colegio a las 16:30 de la tarde.
URL:https://colegiosanfelipeneri.com/evento/graduacion-sexto-de-primaria/
LOCATION:Madrid
CATEGORIES:Días especiales
ATTACH;FMTTYPE=image/png:https://colegiosanfelipeneri.com/wp-content/uploads/2025/06/graduacion-primaria.png
END:VEVENT
BEGIN:VEVENT
DTSTART;VALUE=DATE:20260619
DTEND;VALUE=DATE:20260620
DTSTAMP:20260420T111008
CREATED:20251222T095158Z
LAST-MODIFIED:20251222T095158Z
UID:9543-1781827200-1781913599@colegiosanfelipeneri.com
SUMMARY:Final de curso
DESCRIPTION:Es el último día de colegio.
URL:https://colegiosanfelipeneri.com/evento/final-de-curso/
LOCATION:Colegio San Felipe Neri\, Calle San Felipe 2\, Alcalá de Henares\, Madrid\, 28801\, Spain
CATEGORIES:Días especiales
ATTACH;FMTTYPE=image/png:https://colegiosanfelipeneri.com/wp-content/uploads/2025/12/final-de-curso.png
END:VEVENT
BEGIN:VEVENT
DTSTART;VALUE=DATE:20260622
DTEND;VALUE=DATE:20260623
DTSTAMP:20260420T111008
CREATED:20250604T112242Z
LAST-MODIFIED:20251224T091911Z
UID:8825-1782086400-1782172799@colegiosanfelipeneri.com
SUMMARY:Obras de rehabilitación en el Colegio
DESCRIPTION:Obras de rehabilitación en el colegio \n\nEste verano tendremos obras de rehabilitación de la tercera planta del colegio.\nDurarán desde junio a septiembre
URL:https://colegiosanfelipeneri.com/evento/obras-de-rehabilitacion-en-el-colegio/
LOCATION:Colegio San Felipe Neri\, Calle San Felipe 2\, Alcalá de Henares\, Madrid\, 28801\, Spain
CATEGORIES:Días especiales
ATTACH;FMTTYPE=image/png:https://colegiosanfelipeneri.com/wp-content/uploads/2025/06/obras-verano.png
END:VEVENT
BEGIN:VEVENT
DTSTART;VALUE=DATE:20260622
DTEND;VALUE=DATE:20260623
DTSTAMP:20260420T111008
CREATED:20251222T095516Z
LAST-MODIFIED:20251222T095516Z
UID:9546-1782086400-1782172799@colegiosanfelipeneri.com
SUMMARY:Entrega de notas finales
DESCRIPTION:Entrega de notas finales
URL:https://colegiosanfelipeneri.com/evento/entrega-de-notas-finales/
LOCATION:Colegio San Felipe Neri\, Calle San Felipe 2\, Alcalá de Henares\, Madrid\, 28801\, Spain
CATEGORIES:Días no lectivos
ATTACH;FMTTYPE=image/png:https://colegiosanfelipeneri.com/wp-content/uploads/2025/06/ENTREGA-DE-NOTAS.png
END:VEVENT
BEGIN:VEVENT
DTSTART;VALUE=DATE:20260623
DTEND;VALUE=DATE:20260701
DTSTAMP:20260420T111008
CREATED:20251222T111156Z
LAST-MODIFIED:20251222T111337Z
UID:9580-1782172800-1782863999@colegiosanfelipeneri.com
SUMMARY:Reunión de profesores: junio
DESCRIPTION:La semana del 23 de junio al 30 los profesores permanecemos en el centro realizando la memoria evaluativa del curso y el plan de mejora para el curso siguiente.
URL:https://colegiosanfelipeneri.com/evento/reunion-de-profesores-junio/
LOCATION:Colegio San Felipe Neri\, Calle San Felipe 2\, Alcalá de Henares\, Madrid\, 28801\, Spain
CATEGORIES:Reunión de Profesores
ATTACH;FMTTYPE=image/png:https://colegiosanfelipeneri.com/wp-content/uploads/2025/07/Reunion-Profesores.png
END:VEVENT
BEGIN:VEVENT
DTSTART;VALUE=DATE:20260626
DTEND;VALUE=DATE:20260627
DTSTAMP:20260420T111008
CREATED:20250604T104525Z
LAST-MODIFIED:20251224T091316Z
UID:8819-1782432000-1782518399@colegiosanfelipeneri.com
SUMMARY:Consejo Escolar
DESCRIPTION:Consejo Escolar \n\nEs un órgano colegiado que reúne a los distintos sectores de la comunidad educativa (padres\, madres\, estudiantes\, docentes\, personal de administración y servicios\, y representantes de la administración pública) para informar\, proponer y opinar sobre la gestión del centro educativo.\n5 de la tarde\nSólo miembros del Consejo.
URL:https://colegiosanfelipeneri.com/evento/consejo-escolar/
LOCATION:Madrid
CATEGORIES:Días especiales
ATTACH;FMTTYPE=image/png:https://colegiosanfelipeneri.com/wp-content/uploads/2025/06/CONSEJO-ESCOLAR.png
END:VEVENT
END:VCALENDAR