BEGIN:VCALENDAR
VERSION:2.0
PRODID:-//Colegio San Felipe Neri - ECPv6.15.20//NONSGML v1.0//EN
CALSCALE:GREGORIAN
METHOD:PUBLISH
X-WR-CALNAME:Colegio San Felipe Neri
X-ORIGINAL-URL:https://colegiosanfelipeneri.com
X-WR-CALDESC:Eventos para Colegio San Felipe Neri
REFRESH-INTERVAL;VALUE=DURATION:PT1H
X-Robots-Tag:noindex
X-PUBLISHED-TTL:PT1H
BEGIN:VTIMEZONE
TZID:Europe/Madrid
BEGIN:DAYLIGHT
TZOFFSETFROM:+0100
TZOFFSETTO:+0200
TZNAME:CEST
DTSTART:20250330T010000
END:DAYLIGHT
BEGIN:STANDARD
TZOFFSETFROM:+0200
TZOFFSETTO:+0100
TZNAME:CET
DTSTART:20251026T010000
END:STANDARD
BEGIN:DAYLIGHT
TZOFFSETFROM:+0100
TZOFFSETTO:+0200
TZNAME:CEST
DTSTART:20260329T010000
END:DAYLIGHT
BEGIN:STANDARD
TZOFFSETFROM:+0200
TZOFFSETTO:+0100
TZNAME:CET
DTSTART:20261025T010000
END:STANDARD
BEGIN:DAYLIGHT
TZOFFSETFROM:+0100
TZOFFSETTO:+0200
TZNAME:CEST
DTSTART:20270328T010000
END:DAYLIGHT
BEGIN:STANDARD
TZOFFSETFROM:+0200
TZOFFSETTO:+0100
TZNAME:CET
DTSTART:20271031T010000
END:STANDARD
END:VTIMEZONE
BEGIN:VEVENT
DTSTART;TZID=Europe/Madrid:20260317T163000
DTEND;TZID=Europe/Madrid:20260317T183000
DTSTAMP:20260420T201332
CREATED:20251222T104445Z
LAST-MODIFIED:20251222T104608Z
UID:9567-1773765000-1773772200@colegiosanfelipeneri.com
SUMMARY:Reunión de profesores: marzo
DESCRIPTION:16:30 a 17:30: Reunión por etapas para preparar el claustro.\n17:30 a 18:30: Reunión con todos para revisar la evaluación por competencias
URL:https://colegiosanfelipeneri.com/evento/reunion-de-profesores-marzo/
LOCATION:Colegio San Felipe Neri\, Calle San Felipe 2\, Alcalá de Henares\, Madrid\, 28801\, Spain
CATEGORIES:Reunión de Profesores
ATTACH;FMTTYPE=image/png:https://colegiosanfelipeneri.com/wp-content/uploads/2025/07/Reunion-Profesores.png
END:VEVENT
BEGIN:VEVENT
DTSTART;TZID=Europe/Madrid:20260324T163000
DTEND;TZID=Europe/Madrid:20260324T183000
DTSTAMP:20260420T201332
CREATED:20251222T105028Z
LAST-MODIFIED:20251222T105028Z
UID:9571-1774369800-1774377000@colegiosanfelipeneri.com
SUMMARY:Claustro 2ª evaluación
DESCRIPTION:Claustro de profesores para evaluar la enseñanza de esta evalución\, ver los resultados\, estudiar las notas de cada alumno y tomar decisiones para mejorar el rendimiento académico de cada uno de ellos.
URL:https://colegiosanfelipeneri.com/evento/claustro-2a-evaluacion/
LOCATION:Colegio San Felipe Neri\, Calle San Felipe 2\, Alcalá de Henares\, Madrid\, 28801\, Spain
CATEGORIES:Reunión de Profesores
ATTACH;FMTTYPE=image/png:https://colegiosanfelipeneri.com/wp-content/uploads/2025/07/Reunion-Profesores.png
END:VEVENT
END:VCALENDAR