BEGIN:VCALENDAR
VERSION:2.0
PRODID:-//Colegio San Felipe Neri - ECPv6.15.20//NONSGML v1.0//EN
CALSCALE:GREGORIAN
METHOD:PUBLISH
X-WR-CALNAME:Colegio San Felipe Neri
X-ORIGINAL-URL:https://colegiosanfelipeneri.com
X-WR-CALDESC:Eventos para Colegio San Felipe Neri
REFRESH-INTERVAL;VALUE=DURATION:PT1H
X-Robots-Tag:noindex
X-PUBLISHED-TTL:PT1H
BEGIN:VTIMEZONE
TZID:Europe/Madrid
BEGIN:DAYLIGHT
TZOFFSETFROM:+0100
TZOFFSETTO:+0200
TZNAME:CEST
DTSTART:20240331T010000
END:DAYLIGHT
BEGIN:STANDARD
TZOFFSETFROM:+0200
TZOFFSETTO:+0100
TZNAME:CET
DTSTART:20241027T010000
END:STANDARD
BEGIN:DAYLIGHT
TZOFFSETFROM:+0100
TZOFFSETTO:+0200
TZNAME:CEST
DTSTART:20250330T010000
END:DAYLIGHT
BEGIN:STANDARD
TZOFFSETFROM:+0200
TZOFFSETTO:+0100
TZNAME:CET
DTSTART:20251026T010000
END:STANDARD
BEGIN:DAYLIGHT
TZOFFSETFROM:+0100
TZOFFSETTO:+0200
TZNAME:CEST
DTSTART:20260329T010000
END:DAYLIGHT
BEGIN:STANDARD
TZOFFSETFROM:+0200
TZOFFSETTO:+0100
TZNAME:CET
DTSTART:20261025T010000
END:STANDARD
END:VTIMEZONE
BEGIN:VEVENT
DTSTART;TZID=Europe/Madrid:20251216T163000
DTEND;TZID=Europe/Madrid:20251216T183000
DTSTAMP:20260421T004747
CREATED:20250703T172809Z
LAST-MODIFIED:20251222T105310Z
UID:8989-1765902600-1765909800@colegiosanfelipeneri.com
SUMMARY:Claustro de la 1ª evaluación
DESCRIPTION:Reunión de Claustro todos los profesores juntos.
URL:https://colegiosanfelipeneri.com/evento/reunion-de-profesores-3/
LOCATION:Colegio San Felipe Neri\, Calle San Felipe 2\, Alcalá de Henares\, Madrid\, 28801\, Spain
CATEGORIES:Reunión de Profesores
ATTACH;FMTTYPE=image/png:https://colegiosanfelipeneri.com/wp-content/uploads/2025/07/Reunion-Profesores.png
END:VEVENT
END:VCALENDAR