BEGIN:VCALENDAR
VERSION:2.0
PRODID:-//Colegio San Felipe Neri - ECPv6.15.20//NONSGML v1.0//EN
CALSCALE:GREGORIAN
METHOD:PUBLISH
X-ORIGINAL-URL:https://colegiosanfelipeneri.com
X-WR-CALDESC:Eventos para Colegio San Felipe Neri
REFRESH-INTERVAL;VALUE=DURATION:PT1H
X-Robots-Tag:noindex
X-PUBLISHED-TTL:PT1H
BEGIN:VTIMEZONE
TZID:Europe/Madrid
BEGIN:DAYLIGHT
TZOFFSETFROM:+0100
TZOFFSETTO:+0200
TZNAME:CEST
DTSTART:20240331T010000
END:DAYLIGHT
BEGIN:STANDARD
TZOFFSETFROM:+0200
TZOFFSETTO:+0100
TZNAME:CET
DTSTART:20241027T010000
END:STANDARD
BEGIN:DAYLIGHT
TZOFFSETFROM:+0100
TZOFFSETTO:+0200
TZNAME:CEST
DTSTART:20250330T010000
END:DAYLIGHT
BEGIN:STANDARD
TZOFFSETFROM:+0200
TZOFFSETTO:+0100
TZNAME:CET
DTSTART:20251026T010000
END:STANDARD
BEGIN:DAYLIGHT
TZOFFSETFROM:+0100
TZOFFSETTO:+0200
TZNAME:CEST
DTSTART:20260329T010000
END:DAYLIGHT
BEGIN:STANDARD
TZOFFSETFROM:+0200
TZOFFSETTO:+0100
TZNAME:CET
DTSTART:20261025T010000
END:STANDARD
END:VTIMEZONE
BEGIN:VEVENT
DTSTART;TZID=Europe/Madrid:20251219T090000
DTEND;TZID=Europe/Madrid:20251219T130000
DTSTAMP:20260423T024917
CREATED:20250703T170138Z
LAST-MODIFIED:20251216T105452Z
UID:8981-1766134800-1766149200@colegiosanfelipeneri.com
SUMMARY:Celebración de la Navidad infantil y primaria
DESCRIPTION:Celebración de la Navidad \n\nEntrada al colegio como de costumbre.\nA las 10 de la mañana celebración de la Eucaristía en el Oratorio de San Felipe Neri.\nLos alumnos por cursos cantarán villancicos\, que han ido preparando en la clase de Música.\nAl final vendrán los Reyes Magos para dar un regalito a los niños.\nA esta misa con villancicos y Reyes Magos pueden venir los padres.\n\nCuando terminemos la Eucaristía los alumnos nos iremos todos al colegio. Por razones de seguridad\, no se podrán ir los alumnos con vosotros a casa\, ¡hay que regresar al colegio! \nRECORDAD QUE: \n\nLOS NIÑOS SALDRÁN ANTES DEL COLEGIO\nA LAS 12:45 H. INFANTIL\nA LAS 13:OO H. PRIMARA.\nESE DÍA NO HAY COMEDOR\nTAMPOCO HORARIO AMPLIADO DESDE LAS 13:OO H.
URL:https://colegiosanfelipeneri.com/evento/celebracion-de-la-navidad/
LOCATION:Colegio San Felipe Neri\, Calle San Felipe 2\, Alcalá de Henares\, Madrid\, 28801\, Spain
CATEGORIES:Eucaristía
ATTACH;FMTTYPE=image/png:https://colegiosanfelipeneri.com/wp-content/uploads/2025/07/navidad.png
END:VEVENT
END:VCALENDAR