BEGIN:VCALENDAR
VERSION:2.0
PRODID:-//Colegio San Felipe Neri - ECPv6.15.20//NONSGML v1.0//EN
CALSCALE:GREGORIAN
METHOD:PUBLISH
X-WR-CALNAME:Colegio San Felipe Neri
X-ORIGINAL-URL:https://colegiosanfelipeneri.com
X-WR-CALDESC:Eventos para Colegio San Felipe Neri
REFRESH-INTERVAL;VALUE=DURATION:PT1H
X-Robots-Tag:noindex
X-PUBLISHED-TTL:PT1H
BEGIN:VTIMEZONE
TZID:Europe/Madrid
BEGIN:DAYLIGHT
TZOFFSETFROM:+0100
TZOFFSETTO:+0200
TZNAME:CEST
DTSTART:20250330T010000
END:DAYLIGHT
BEGIN:STANDARD
TZOFFSETFROM:+0200
TZOFFSETTO:+0100
TZNAME:CET
DTSTART:20251026T010000
END:STANDARD
BEGIN:DAYLIGHT
TZOFFSETFROM:+0100
TZOFFSETTO:+0200
TZNAME:CEST
DTSTART:20260329T010000
END:DAYLIGHT
BEGIN:STANDARD
TZOFFSETFROM:+0200
TZOFFSETTO:+0100
TZNAME:CET
DTSTART:20261025T010000
END:STANDARD
BEGIN:DAYLIGHT
TZOFFSETFROM:+0100
TZOFFSETTO:+0200
TZNAME:CEST
DTSTART:20270328T010000
END:DAYLIGHT
BEGIN:STANDARD
TZOFFSETFROM:+0200
TZOFFSETTO:+0100
TZNAME:CET
DTSTART:20271031T010000
END:STANDARD
END:VTIMEZONE
BEGIN:VEVENT
DTSTART;VALUE=DATE:20260504
DTEND;VALUE=DATE:20260505
DTSTAMP:20260420T164221
CREATED:20251224T085227Z
LAST-MODIFIED:20251224T085227Z
UID:9640-1777852800-1777939199@colegiosanfelipeneri.com
SUMMARY:Vuelta a clase
DESCRIPTION:Vuelta a clase tras el puente de mayo.
URL:https://colegiosanfelipeneri.com/evento/vuelta-a-clase-4/
LOCATION:Colegio San Felipe Neri\, Calle San Felipe 2\, Alcalá de Henares\, Madrid\, 28801\, Spain
CATEGORIES:Días especiales
ATTACH;FMTTYPE=image/png:https://colegiosanfelipeneri.com/wp-content/uploads/2025/12/vuelta-a-clase.png
END:VEVENT
BEGIN:VEVENT
DTSTART;VALUE=DATE:20260527
DTEND;VALUE=DATE:20260528
DTSTAMP:20260420T164221
CREATED:20251222T093556Z
LAST-MODIFIED:20251222T093849Z
UID:9534-1779840000-1779926399@colegiosanfelipeneri.com
SUMMARY:Festival Celebrarte
DESCRIPTION:Festival Celebrarte en honor a San Felipe Neri
URL:https://colegiosanfelipeneri.com/evento/festival-celebrarte/
LOCATION:Colegio San Felipe Neri\, Calle San Felipe 2\, Alcalá de Henares\, Madrid\, 28801\, Spain
CATEGORIES:Días especiales
ATTACH;FMTTYPE=image/png:https://colegiosanfelipeneri.com/wp-content/uploads/2025/12/celebrarte-calendario.png
END:VEVENT
BEGIN:VEVENT
DTSTART;VALUE=DATE:20260529
DTEND;VALUE=DATE:20260530
DTSTAMP:20260420T164221
CREATED:20251223T101114Z
LAST-MODIFIED:20251223T101436Z
UID:9612-1780012800-1780099199@colegiosanfelipeneri.com
SUMMARY:Las flores a María: mes de mayo
DESCRIPTION:En nuestro colegio tenemos la tradición de celebrar a lo largo del mes de mayo la flores a María\, el último día del mes hacemos una ofrenda floral a la imagen de la Virgen Milagrosa que tenemos en el patio\, cada niño trae a la virgen una flor.
URL:https://colegiosanfelipeneri.com/evento/las-flores-a-maria-mes-de-mayo/
LOCATION:Colegio San Felipe Neri\, Calle San Felipe 2\, Alcalá de Henares\, Madrid\, 28801\, Spain
CATEGORIES:Días especiales
ATTACH;FMTTYPE=image/png:https://colegiosanfelipeneri.com/wp-content/uploads/2025/12/Las-flores-a-Maria.png
END:VEVENT
END:VCALENDAR